Workbook

Sheet Turnaustilaus
A2: Turnauksen tiedot | G2: Laskutustiedot
A3: Turnauksen nimi | B3: Syötä tähän turnauksen nimi | G3: Nimi | H3: Syötä tähän nimi
A4: Ikäluokka | B4: Syötä tähän ikäluokka | G4: Osoite | H4: Syötä tähän laskutusosoite
A5: Taso: (Esim. A, AA, U16 Mestis jne.) | B5: Syötä tähän taso | G5: Postinumero ja -toimipaikka | H5: Syötä tähän postinumero ja toimipaikka
A6: Peliaika: (Esim. 3x15min, 2x20min jne.) | B6: Syötä tähän otteluiden peliaika | G6: Sähköposti | H6: Syötä tähän sähköposti
G7: Lisätietoja laskutukseen liittyen | H7: Syötä tähän mahdolliset lisätiedot
A8: Yhteystiedot
A9: Yhteyshenkilön nimi | B9: Syötä tähän yhteyshenkilön nimi
A10: Yhteyshenkilö email | B10: Syötä tähän yhteyshenkilön sähköposti
A11: Yhteyshenkilö puhelin | B11: Syötä tähän yhteyshenkilön puhelinnumero
A14: Otteluohjelma
A15: Ohjeita otteluohjelman ilmoittamiseen -"Sarja"-kohdan nimi muodostetaan seuran nimen lyhenteestä (2-4 merkkiä) sekä lisäämällä siiihen ikäluokka ja taso. Jos turnauksessa on eritasoisia lohkoja, sarjan nimen lopussa pitää olla taso, esim. AAA. Älä käytä välilyöntejä tai erikoismerkkejä tässä kentässä. - Lohko kohtaan merkitään joko numero tai jos turnauksessa on eritasoisia lohkoja, merkitään lohkon nimeksi taso, esim. AAA. - Ottelunumerot voivat olla juoksevassa järjestyksessä. Merkitse mahdolliset välierät ja finaalit. - "Kellonaika"-kohtaan merkitse ottelun todellinen alkamisaika. - "Kenttä"-kohtaan syötä halli/kaukalo, jossa ottelu pelataan. Noudata samaa logiikkaa, kuin muissakin pelitilauksissa.
A17: Sarja | B17: Lohko | C17: Ottelunro | D17: Päivämäärä (pp.kk.vvvv) | E17: Kellonaika (tt:mm) | F17: Kotijoukkue | G17: Vierasjoukkue | H17: Kenttäkoodi ÄLÄ MUOKKAA, TÄYTTYY AUTOMAATTTISESTI | I17: Kenttä Valitse listasta
A18: KEU12t | B18: U12 | C18: 1 | D18: 46024 | E18: 0.58333333 | F18: Kiekko-Espoo EPS | G18: KJT-Haukat | H18: =IFERROR(INDEX(Sheet2!B:B,MATCH(I18,Sheet2!A:A,0)),"") -> 8 | I18: Espoonlahti hh | J18: <-- Esimerkki, korvaa oman turnauksen tiedoilla.
A19: KEU12t | B19: U12 | C19: 2 | D19: 46024 | E19: 0.59375 | F19: Kiekko-Espoo Blues | G19: Kiekko-Vantaa | H19: =IFERROR(INDEX(Sheet2!B:B,MATCH(I19,Sheet2!A:A,0)),"") -> 8 | I19: Espoonlahti hh | J19: <-- Esimerkki, korvaa oman turnauksen tiedoilla.
A20: KEU12t | B20: U12 | C20: 3 | D20: 46024 | E20: 0.69791667 | F20: KooKoo | G20: Salamat | H20: =IFERROR(INDEX(Sheet2!B:B,MATCH(I20,Sheet2!A:A,0)),"") -> 7 | I20: Espoonlahti | J20: <-- Esimerkki, korvaa oman turnauksen tiedoilla.
A21: KEU12t | B21: U12 | C21: 4 | D21: 46024 | E21: 0.70833333 | F21: Kiekko-Espoo EPS | G21: Ketterä | H21: =IFERROR(INDEX(Sheet2!B:B,MATCH(I21,Sheet2!A:A,0)),"") -> 8 | I21: Espoonlahti hh | J21: <-- Esimerkki, korvaa oman turnauksen tiedoilla.
H22: =IFERROR(INDEX(Sheet2!B:B,MATCH(I22,Sheet2!A:A,0)),"")
H23: =IFERROR(INDEX(Sheet2!B:B,MATCH(I23,Sheet2!A:A,0)),"")
H24: =IFERROR(INDEX(Sheet2!B:B,MATCH(I24,Sheet2!A:A,0)),"")
H25: =IFERROR(INDEX(Sheet2!B:B,MATCH(I25,Sheet2!A:A,0)),"")
H26: =IFERROR(INDEX(Sheet2!B:B,MATCH(I26,Sheet2!A:A,0)),"")
H27: =IFERROR(INDEX(Sheet2!B:B,MATCH(I27,Sheet2!A:A,0)),"")
H28: =IFERROR(INDEX(Sheet2!B:B,MATCH(I28,Sheet2!A:A,0)),"")
H29: =IFERROR(INDEX(Sheet2!B:B,MATCH(I29,Sheet2!A:A,0)),"")
H30: =IFERROR(INDEX(Sheet2!B:B,MATCH(I30,Sheet2!A:A,0)),"")
H31: =IFERROR(INDEX(Sheet2!B:B,MATCH(I31,Sheet2!A:A,0)),"")
H32: =IFERROR(INDEX(Sheet2!B:B,MATCH(I32,Sheet2!A:A,0)),"")
H33: =IFERROR(INDEX(Sheet2!B:B,MATCH(I33,Sheet2!A:A,0)),"")
... H103: =IFERROR(INDEX(Sheet2!B:B,MATCH(I103,Sheet2!A:A,0)),"")

Sheet Sheet2
A1: Kentän nimi | B1: Kenttäkoodi
A2: Areena | B2: 17
A3: Areena 2 | B3: 18
A4: Espoonlahti | B4: 7
A5: Espoonlahti hh | B5: 8
A6: Herttoniemen Jäähalli 1 | B6: 581
A7: Herttoniemen Jäähalli 2 | B7: 582
A8: Hyrylä | B8: 200
A9: Hyrylä 2 | B9: 212
A10: Hyvinkää | B10: 29
A11: Hyvinkää hh | B11: 28
A12: Järvenpää | B12: 43
A13: Järvenpää 2 | B13: 283
... A66: Vuosaari 2 | B66: 253
